BEGIN:VCALENDAR
VERSION:2.0
PRODID:-//Ideal Development Agency - ECPv5.16.2//NONSGML v1.0//EN
CALSCALE:GREGORIAN
METHOD:PUBLISH
X-WR-CALNAME:Ideal Development Agency
X-ORIGINAL-URL:https://idaindia.org.in
X-WR-CALDESC:Events for Ideal Development Agency
REFRESH-INTERVAL;VALUE=DURATION:PT1H
X-Robots-Tag:noindex
X-PUBLISHED-TTL:PT1H
BEGIN:VTIMEZONE
TZID:UTC
BEGIN:STANDARD
TZOFFSETFROM:+0000
TZOFFSETTO:+0000
TZNAME:UTC
DTSTART:20200101T000000
END:STANDARD
END:VTIMEZONE
BEGIN:VEVENT
DTSTART;TZID=UTC:20200708T100000
DTEND;TZID=UTC:20200708T100000
DTSTAMP:20260419T154039
CREATED:20191205T023557Z
LAST-MODIFIED:20191205T023557Z
UID:1062-1594202400-1594202400@idaindia.org.in
SUMMARY:West midlands brain game for womens
DESCRIPTION:Celebrities in our event\n			\n		\n		\n			\n				\n								\n					\n						\n							\n								\n							\n						\n						\n							\n								 Benjie Alphonso\n								Founder\n							\n							\n                \n                \n                \n            						\n					\n				\n									\n					\n						\n							\n								\n							\n						\n						\n							\n								 Ivor Herbert\n								Manager\n							\n							\n                \n                \n                \n            						\n					\n				\n									\n					\n						\n							\n								\n							\n						\n						\n							\n								 Merlin Judson\n								Ground Person\n							\n							\n                \n                \n                \n            						\n					\n				\n									\n					\n						\n							\n								\n							\n						\n						\n							\n								 Benjie Alphonso\n								Founder\n							\n							\n                \n                \n                \n            						\n					\n				\n									\n					\n						\n							\n								\n							\n						\n						\n							\n								 Benjie Alphonso\n								Founder\n							\n							\n                \n                \n                \n            						\n					\n				\n									\n					\n						\n							\n								\n							\n						\n						\n							\n								 Ivor Herbert\n								Manager\n							\n							\n                \n                \n                \n            						\n					\n				\n									\n					\n						\n							\n								\n							\n						\n						\n							\n								 Merlin Judson\n								Ground Person\n							\n							\n                \n                \n                \n            						\n					\n				\n									\n					\n						\n							\n								\n							\n						\n						\n							\n								 Benjie Alphonso\n								Founder
URL:https://idaindia.org.in/event/medfest-2019-bristol/
LOCATION:Newyork City\, Bir Uttam Samsul Alam Road\, Dhaka\, 1205\, Bangladesh
CATEGORIES:Demo,Demo Two
END:VEVENT
BEGIN:VEVENT
DTSTART;TZID=UTC:20200211T090000
DTEND;TZID=UTC:20200229T163000
DTSTAMP:20260419T154039
CREATED:20200331T100745Z
LAST-MODIFIED:20200331T100745Z
UID:1977-1581411600-1582993800@idaindia.org.in
SUMMARY:A wooden fishing boat rests on deal in kent
DESCRIPTION:Celebrities in our event\n			\n		\n		\n			\n				\n								\n					\n						\n							\n								\n							\n						\n						\n							\n								 Benjie Alphonso\n								Founder\n							\n							\n                \n                \n                \n            						\n					\n				\n									\n					\n						\n							\n								\n							\n						\n						\n							\n								 Ivor Herbert\n								Manager\n							\n							\n                \n                \n                \n            						\n					\n				\n									\n					\n						\n							\n								\n							\n						\n						\n							\n								 Merlin Judson\n								Ground Person\n							\n							\n                \n                \n                \n            						\n					\n				\n									\n					\n						\n							\n								\n							\n						\n						\n							\n								 Benjie Alphonso\n								Founder\n							\n							\n                \n                \n                \n            						\n					\n				\n									\n					\n						\n							\n								\n							\n						\n						\n							\n								 Benjie Alphonso\n								Founder\n							\n							\n                \n                \n                \n            						\n					\n				\n									\n					\n						\n							\n								\n							\n						\n						\n							\n								 Ivor Herbert\n								Manager\n							\n							\n                \n                \n                \n            						\n					\n				\n									\n					\n						\n							\n								\n							\n						\n						\n							\n								 Merlin Judson\n								Ground Person\n							\n							\n                \n                \n                \n            						\n					\n				\n									\n					\n						\n							\n								\n							\n						\n						\n							\n								 Benjie Alphonso\n								Founder
URL:https://idaindia.org.in/event/a-wooden-fishing-boat-rests-on-deal-in-kent-2/
LOCATION:24\, Red rose Steet\, NY\, 24\, Red rose Steet\, NY\, New York\, NY\, United States
CATEGORIES:Demo Two,Main
END:VEVENT
END:VCALENDAR